BEGIN:VCALENDAR
VERSION:2.0
PRODID:-//Valéxico - ECPv6.15.17.1//NONSGML v1.0//EN
CALSCALE:GREGORIAN
METHOD:PUBLISH
X-WR-CALNAME:Valéxico
X-ORIGINAL-URL:https://valexicostore.com
X-WR-CALDESC:Eventos para Valéxico
REFRESH-INTERVAL;VALUE=DURATION:PT1H
X-Robots-Tag:noindex
X-PUBLISHED-TTL:PT1H
BEGIN:VTIMEZONE
TZID:UTC
BEGIN:STANDARD
TZOFFSETFROM:+0000
TZOFFSETTO:+0000
TZNAME:UTC
DTSTART:20250101T000000
END:STANDARD
END:VTIMEZONE
BEGIN:VEVENT
DTSTART;TZID=UTC:20260418T100000
DTEND;TZID=UTC:20260418T140000
DTSTAMP:20260422T055632
CREATED:20260324T003945Z
LAST-MODIFIED:20260324T003945Z
UID:1010-1776506400-1776520800@valexicostore.com
SUMMARY:Decora tu tote bag con Cianotipia
DESCRIPTION:Abril\, primavera y solecito ☀️  eso solo puede significar una cosa: workshop de cianotipia. \nPara la sesión de abril\, @kosac.raw preparó un taller especial para retomar nuestras reuniones mensuales de cianotipia. Durante la experiencia podrás realizar tus propias impresiones sobre tote bag y explorar esta técnica artesanal en un ambiente creativo\, relajado y guiado. \nLa cianotipia es un proceso de impresión artesanal que utiliza la luz solar para revelar imágenes en tonos azules intensos. Es una técnica experimental\, sensible y sorprendente\, ideal para crear piezas únicas a partir de composiciones\, objetos y formas. \nVen a vivir una nueva experiencia de taller y llévate a casa una pieza original\, hecha por ti\, que también puede convertirse en un regalo especial. \nSábado 18 de abril | 10:00 a 14:00 hrs \nInversión$420 por persona \nIncluye \n\nMateriales para cianotipia\nTote bag para intervenir\nManual digital\nbebida y snack\n\nReserva tu lugar por Whatsapp
URL:https://valexicostore.com/event/decora-tu-tote-bag-con-cianotipia/
LOCATION:Valéxico\, Hidalgo pte. 802\, Barrio de San Bernardino\, Toluca\, Estado de México\, 50080\, Mexico
CATEGORIES:Cianotipia,Taller
ATTACH;FMTTYPE=image/png:https://valexicostore.com/wp-content/uploads/2026/03/Cianotipia-sobre-Tote-Bag-Crea-una-pieza-unica.png
END:VEVENT
BEGIN:VEVENT
DTSTART;TZID=UTC:20260418T110000
DTEND;TZID=UTC:20260418T140000
DTSTAMP:20260422T055632
CREATED:20260324T000004Z
LAST-MODIFIED:20260324T000123Z
UID:973-1776510000-1776520800@valexicostore.com
SUMMARY:Taller de Carpintería | Crea tu propia tabla para picar
DESCRIPTION:Te invitamos al nuevo taller de carpintería en donde aprenderás a trabajar la madera en una sesión práctica pensada para personas que quieren acercarse al oficio de forma segura\, guiada y accesible. \nDurante la experiencia conocerás el uso de herramientas eléctricas y manuales\, técnicas correctas de carpintería y estándares básicos de seguridad. Además\, aprenderás a dar el acabado adecuado a la madera para que tu pieza quede lista para su uso y conservación. \nAl finalizar la sesión\, cada participante se llevará una tabla para picar hecha por ellos mismos. \n¿Qué aprenderás? \n\nUso básico de herramientas eléctricas\nUso de herramientas manuales de medición\nTécnicas correctas de carpintería\nPrincipios de seguridad en el trabajo con madera\nAcabado y protección de la tabla\n\nDuración3 horas\, con un break de 20 minutos \nHorarios disponibles \n\nViernes · 11:00 am\nSábados · 11:00 am\n\nIncluye \n\nMascarilla de seguridad\nLentes de seguridad\nAceite mineral y cera de abeja\nMadera (Encino Americano o Maple)\n1 bebida y snack salado\n1 snack\n\nCosto$650 por persona \nCupo limitadoPor cuestiones de seguridad\, el taller está limitado a 3 personas por sesión. \nReserva tu lugar enviándonos un WhatsApp.
URL:https://valexicostore.com/event/taller-de-carpinteria-crea-tu-propia-tabla-para-picar-2/
LOCATION:Valéxico\, Hidalgo pte. 802\, Barrio de San Bernardino\, Toluca\, Estado de México\, 50080\, Mexico
CATEGORIES:Madera,Taller
ATTACH;FMTTYPE=image/png:https://valexicostore.com/wp-content/uploads/2026/03/Taller-de-Carpinteria-Crea-tu-propia-tabla-para-picar.png
ORGANIZER;CN="Val%C3%A9xico":MAILTO:hola@valexicostore.com
END:VEVENT
BEGIN:VEVENT
DTSTART;TZID=UTC:20260418T110000
DTEND;TZID=UTC:20260418T170000
DTSTAMP:20260422T055632
CREATED:20260213T193834Z
LAST-MODIFIED:20260213T193834Z
UID:866-1776510000-1776531600@valexicostore.com
SUMMARY:Mercado Verde agroecológico y artesanal de Toluca
DESCRIPTION:En Valéxico no solo apoyamos el talento local\, sino también el consumo local y queremos ofrecerte las mejores opciones para tus compras necesarias. \nEl Mercado Verde agroecológico y artesanal de Toluca está de regreso con tres nuevas fechas\n🪴 Sábado 21 de febrero\n🪻Sábado 21 de marzo\n🐝 Sábado 18 de abril \nEn cada edición podrás encontrar una variedad de productos orgánicos\, artesanales y sostenibles. \nVen a conocer- y probar- los productos de:\n@Ye_hnahnu\n@ixhua\n@colectivaamphibia\n@intemporal_joyeria\n@maju_postres_bizcochos\n@dlichos \n¡Y muchos emprendimientos más! \n¡Te esperamos!\n📍Hidalgo pte 802\, Toluca\n🕙 De 11:00 a 17:00 hrs
URL:https://valexicostore.com/event/mercado-verde-agroecologico-y-artesanal-de-toluca-18-04/
LOCATION:Valéxico\, Hidalgo pte. 802\, Barrio de San Bernardino\, Toluca\, Estado de México\, 50080\, Mexico
CATEGORIES:Mercado
ATTACH;FMTTYPE=image/png:https://valexicostore.com/wp-content/uploads/2026/02/Mercado-Ecologico-y-aretsanal.png
END:VEVENT
BEGIN:VEVENT
DTSTART;TZID=UTC:20260418T120000
DTEND;TZID=UTC:20260418T140000
DTSTAMP:20260422T055632
CREATED:20260324T001835Z
LAST-MODIFIED:20260324T003024Z
UID:999-1776513600-1776520800@valexicostore.com
SUMMARY:Clase creativa de barro
DESCRIPTION:Durante la clase de barro con La Cemillaca\, tendrás un primer acercamiento al trabajo manual con barro en un ambiente relajado y accesible. La experiencia está pensada para ayudarte a conectar con tus manos\, explorar texturas\, dejarte llevar por el proceso y descubrir la satisfacción de crear algo desde cero. \nLa Cemillaca desarrolla talleres y clases donde la creatividad se experimenta de forma cercana\, sensible y sin presión\, invitándote a descubrir nuevas formas de expresión a través de disciplinas como las artes plásticas\, el grabado\, la creación de papel reciclado y la intervención textil. \nSi te interesa experimentar con materiales\, explorar tu lado creativo y regalarte un momento para crear con calma\, esta clase es para ti. \nSesiones disponibles:  viernes y sábados de 12:00 a 14:00 hrs*\nCosto por clase: $400\nIncluye: todos los materiales\, sancocho de pieza y una bebida del menú\n*Las clases son individuales y no seriadas\, puedes venir cuando tu horario lo permita. \nAparta tu lugar por Whatsapp
URL:https://valexicostore.com/event/clase-creativa-de-barro-4/
LOCATION:Valéxico\, Hidalgo pte. 802\, Barrio de San Bernardino\, Toluca\, Estado de México\, 50080\, Mexico
CATEGORIES:Barro,Clase
ATTACH;FMTTYPE=image/png:https://valexicostore.com/wp-content/uploads/2026/03/Clase-creativa-de-barro.png
END:VEVENT
END:VCALENDAR